BEGIN:VCALENDAR
VERSION:2.0
PRODID:-//Original y Castizo - ECPv6.15.14//NONSGML v1.0//EN
CALSCALE:GREGORIAN
METHOD:PUBLISH
X-WR-CALNAME:Original y Castizo
X-ORIGINAL-URL:https://cafecomercialmadrid.com
X-WR-CALDESC:Eventos para Original y Castizo
REFRESH-INTERVAL;VALUE=DURATION:PT1H
X-Robots-Tag:noindex
X-PUBLISHED-TTL:PT1H
BEGIN:VTIMEZONE
TZID:UTC
BEGIN:STANDARD
TZOFFSETFROM:+0000
TZOFFSETTO:+0000
TZNAME:UTC
DTSTART:20190101T000000
END:STANDARD
END:VTIMEZONE
BEGIN:VEVENT
DTSTART;TZID=UTC:20201124T203000
DTEND;TZID=UTC:20201124T220000
DTSTAMP:20260422T184241
CREATED:20250522T122845Z
LAST-MODIFIED:20250523T090710Z
UID:1096-1606249800-1606255200@cafecomercialmadrid.com
SUMMARY:ZULU MEN - Patrocinado por J&B
DESCRIPTION:ZULU MEN es una banda de Rhythm & Blues cargada de sonido Nueva Orleans. Sus integrantes son músicos profesionales unidos por la escena musical madrileña\, donde son habituales de proyectos como Xoel López\, Freedonia\, Border Caballero\, Burning\, Old Dixieland Band\, Lucilles y muchas otras. Juntos ponen en escena una música llena de ritmos tradicionales y actuales con mucha garra\, con influencias de artistas como Dr. John\, Allen Toussaint\, Professor Longhair o Harry Connick Jr. entre otros. Un show fresco y original cuya efectividad llevan tiempo demostrado por salas y clubes de todo el territorio nacional.   Debido a las medidas de seguridad necesarias y las restricciones de aforo que estas conllevan\, Zulu Men se adapta y nos ofrece su Rhythm & Blues de Nueva Orleans con toda la energía de siempre pero en formato cuarteto: esta vez se presentarán a trompeta y voz\, piano\, bajo y batería.  Volveremos a disfrutar de sus sonadas noches en el Comercial con todas las medidas de seguridad y un poco menos de volumen.»
URL:https://cafecomercialmadrid.com/evento/zulu-men-patrocinado-por-jb/
LOCATION:Café Comercial\, Glorieta de Bilbao\, 7 - Madrid\, Madrid\, Madrid\, 28004\, Spain
CATEGORIES:Conciertos
ATTACH;FMTTYPE=image/jpeg:https://cafecomercialmadrid.com/wp-content/uploads/2025/05/ZULU-MEN-VFK1hh.tmp_.jpg
END:VEVENT
END:VCALENDAR