BEGIN:VCALENDAR
VERSION:2.0
PRODID:-//Original y Castizo - ECPv6.15.14//NONSGML v1.0//EN
CALSCALE:GREGORIAN
METHOD:PUBLISH
X-WR-CALNAME:Original y Castizo
X-ORIGINAL-URL:https://cafecomercialmadrid.com
X-WR-CALDESC:Eventos para Original y Castizo
REFRESH-INTERVAL;VALUE=DURATION:PT1H
X-Robots-Tag:noindex
X-PUBLISHED-TTL:PT1H
BEGIN:VTIMEZONE
TZID:UTC
BEGIN:STANDARD
TZOFFSETFROM:+0000
TZOFFSETTO:+0000
TZNAME:UTC
DTSTART:20200101T000000
END:STANDARD
END:VTIMEZONE
BEGIN:VEVENT
DTSTART;TZID=UTC:20210422T200000
DTEND;TZID=UTC:20210422T220000
DTSTAMP:20260423T164126
CREATED:20250522T123823Z
LAST-MODIFIED:20250523T091306Z
UID:1166-1619121600-1619128800@cafecomercialmadrid.com
SUMMARY:YUNEZ CHAIB - MONÓLOGO
DESCRIPTION:Yunez Chaib es cómico de stand-up de Mallorca. A lo largo de su trayectoria ha grabado varios monólogos en Phi Beta Lambda\, Comedy Central\, y Late Motiv. Actualmente compagina sus actuaciones en directo con el trabajo de guionista en La Resistencia (Movistar +) y en Vodafone Yu (Europa FM)\, así como colaboraciones puntuales en medios digitales como Playground o TV3.
URL:https://cafecomercialmadrid.com/evento/yunez-chaib-monologo/
LOCATION:Café Comercial\, Glorieta de Bilbao\, 7 - Madrid\, Madrid\, Madrid\, 28004\, Spain
CATEGORIES:Monólogos
ATTACH;FMTTYPE=image/jpeg:https://cafecomercialmadrid.com/wp-content/uploads/2025/05/600-j24YfZ.tmp_.jpg
END:VEVENT
END:VCALENDAR