BEGIN:VCALENDAR
VERSION:2.0
PRODID:-//Original y Castizo - ECPv6.15.14//NONSGML v1.0//EN
CALSCALE:GREGORIAN
METHOD:PUBLISH
X-WR-CALNAME:Original y Castizo
X-ORIGINAL-URL:https://cafecomercialmadrid.com
X-WR-CALDESC:Eventos para Original y Castizo
REFRESH-INTERVAL;VALUE=DURATION:PT1H
X-Robots-Tag:noindex
X-PUBLISHED-TTL:PT1H
BEGIN:VTIMEZONE
TZID:UTC
BEGIN:STANDARD
TZOFFSETFROM:+0000
TZOFFSETTO:+0000
TZNAME:UTC
DTSTART:20250101T000000
END:STANDARD
END:VTIMEZONE
BEGIN:VEVENT
DTSTART;TZID=UTC:20260304T203000
DTEND;TZID=UTC:20260304T233000
DTSTAMP:20260422T225432
CREATED:20260204T132022Z
LAST-MODIFIED:20260204T132333Z
UID:2767-1772656200-1772667000@cafecomercialmadrid.com
SUMMARY:Tributo Joaquín Sabina by Arrivederci Lola · Estrella Damm Music Sessions
DESCRIPTION:Despiertos de un sueño que imparable apetecía\, los cinco miembros de esta banda decidieron a principios de 2005 sacar del olvido uno de los repertorios más vibrantes del panorama musical hispanohablante. Repasar y disfrutar la discografía de un artista vivo como Joaquín Sabina no sólo seduce por lo mucho que enseña y emociona\, sino que acaba siendo necesario por todo lo que representa. De un vasto y variado repertorio que\, entre otros estilos\, combina blues\, balada\, rock and roll\, rumba\, tango\, ranchera y distintos tipos de canción pop\, el grupo ya ha hecho vibrar a muchos cómplices en salas como Clamores\, Galileo\, Honky Tonk\, Rockola y otros lugares de la península (Cádiz\, Barcelona\, Murcia\, Segovia\, Guadalajara\, Pamplona… y los que quedan). Un gusto\, en definitiva\, para estos intérpretes entusiasmados con la obra de este «grande» de Úbeda y un disfrute\, deseamos\, para todos aquellos que asistan a sus directos.
URL:https://cafecomercialmadrid.com/evento/tributo-joaquin-sabina-by-arrivederci-lola/
LOCATION:Café Comercial\, Glorieta de Bilbao\, 7 - Madrid\, Madrid\, Madrid\, 28004\, Spain
CATEGORIES:Conciertos
ATTACH;FMTTYPE=image/jpeg:https://cafecomercialmadrid.com/wp-content/uploads/2026/02/WhatsApp-Image-2026-01-22-at-12.17.58.jpeg
END:VEVENT
END:VCALENDAR