BEGIN:VCALENDAR
VERSION:2.0
PRODID:-//Original y Castizo - ECPv6.15.14//NONSGML v1.0//EN
CALSCALE:GREGORIAN
METHOD:PUBLISH
X-WR-CALNAME:Original y Castizo
X-ORIGINAL-URL:https://cafecomercialmadrid.com
X-WR-CALDESC:Eventos para Original y Castizo
REFRESH-INTERVAL;VALUE=DURATION:PT1H
X-Robots-Tag:noindex
X-PUBLISHED-TTL:PT1H
BEGIN:VTIMEZONE
TZID:UTC
BEGIN:STANDARD
TZOFFSETFROM:+0000
TZOFFSETTO:+0000
TZNAME:UTC
DTSTART:20240101T000000
END:STANDARD
END:VTIMEZONE
BEGIN:VEVENT
DTSTART;TZID=UTC:20251007T190000
DTEND;TZID=UTC:20251007T203000
DTSTAMP:20260423T181041
CREATED:20250930T104606Z
LAST-MODIFIED:20250930T104606Z
UID:2508-1759863600-1759869000@cafecomercialmadrid.com
SUMMARY:Tertulia Literaria Hispanoamericana Rafael Montesinos. Sesión 1795ª . Versos Entrevistados con Ana Montojo y Luis Miguel Rodrigo
DESCRIPTION:Ana Montojo y Luiz Miguel Rodrigo Leerán poemas publicados e inéditos y entablarán diálogo entre sí.
URL:https://cafecomercialmadrid.com/evento/tertulia-literaria-hispanoamericana-rafael-montesinos-sesion-1795a-versos-entrevistados-con-ana-montojo-y-luis-miguel-rodrigo/
LOCATION:Café Comercial\, Glorieta de Bilbao\, 7 - Madrid\, Madrid\, Madrid\, 28004\, Spain
CATEGORIES:Lunes Literarios
ATTACH;FMTTYPE=image/jpeg:https://cafecomercialmadrid.com/wp-content/uploads/2025/09/7-oct.jpeg
END:VEVENT
END:VCALENDAR