BEGIN:VCALENDAR
VERSION:2.0
PRODID:-//Original y Castizo - ECPv6.15.14//NONSGML v1.0//EN
CALSCALE:GREGORIAN
METHOD:PUBLISH
X-WR-CALNAME:Original y Castizo
X-ORIGINAL-URL:https://cafecomercialmadrid.com
X-WR-CALDESC:Eventos para Original y Castizo
REFRESH-INTERVAL;VALUE=DURATION:PT1H
X-Robots-Tag:noindex
X-PUBLISHED-TTL:PT1H
BEGIN:VTIMEZONE
TZID:UTC
BEGIN:STANDARD
TZOFFSETFROM:+0000
TZOFFSETTO:+0000
TZNAME:UTC
DTSTART:20220101T000000
END:STANDARD
END:VTIMEZONE
BEGIN:VEVENT
DTSTART;TZID=UTC:20230216T203000
DTEND;TZID=UTC:20230216T230000
DTSTAMP:20260421T201318
CREATED:20250522T154320Z
LAST-MODIFIED:20250523T101056Z
UID:1591-1676579400-1676588400@cafecomercialmadrid.com
SUMMARY:TABLAO FLAMENCO
DESCRIPTION:Una gastronomía de calidad y un espectáculo de flamenco con un invitado muy especial son las premisas de este exclusivo plan en Café Comercial. Una experiencia única para una velada llena de arte que se complementa a la perfección con la propuesta gastronómica de sabores castizos del chef Pepe Roch. Se trata de una propuesta que representa los valores y la herencia cultural que tanto defiende la historia de este restaurante\, y que en esta ocasión contará con artistas de la talla de la bailaora Lisi Sfair\, Antonio Sánchez a la guitarra\, el cantaor Eleazar Cerreduela y  Kike Terrón a la percusión. \nAsí\, este singular arte nacido en el barrio de Triana en Sevilla\, el del Sacromonte en Granada y los jerezanos Santiago y San Miguel cobrará vida en una muestra única de belleza y tradición con la presencia de artistas de renombre.\n  \n  \n  \n 
URL:https://cafecomercialmadrid.com/evento/tablao-flamenco/
LOCATION:Café Comercial\, Glorieta de Bilbao\, 7 - Madrid\, Madrid\, Madrid\, 28004\, Spain
CATEGORIES:Conciertos
ATTACH;FMTTYPE=image/jpeg:https://cafecomercialmadrid.com/wp-content/uploads/2025/05/MG_2683-scaled-1-e1675118885401-20W8Ty.tmp_.jpg
END:VEVENT
END:VCALENDAR