BEGIN:VCALENDAR
VERSION:2.0
PRODID:-//Original y Castizo - ECPv6.15.14//NONSGML v1.0//EN
CALSCALE:GREGORIAN
METHOD:PUBLISH
X-WR-CALNAME:Original y Castizo
X-ORIGINAL-URL:https://cafecomercialmadrid.com
X-WR-CALDESC:Eventos para Original y Castizo
REFRESH-INTERVAL;VALUE=DURATION:PT1H
X-Robots-Tag:noindex
X-PUBLISHED-TTL:PT1H
BEGIN:VTIMEZONE
TZID:UTC
BEGIN:STANDARD
TZOFFSETFROM:+0000
TZOFFSETTO:+0000
TZNAME:UTC
DTSTART:20220101T000000
END:STANDARD
END:VTIMEZONE
BEGIN:VEVENT
DTSTART;TZID=UTC:20230509T190000
DTEND;TZID=UTC:20230509T200000
DTSTAMP:20260422T185216
CREATED:20250522T154809Z
LAST-MODIFIED:20250522T154809Z
UID:1615-1683658800-1683662400@cafecomercialmadrid.com
SUMMARY:Raúl Nieto de la Torre presenta\, “Piedra Negra Piedra Blanca”
DESCRIPTION:Raúl Nieto de la Torre es poeta\, crítico literario y editor. Nació en 1978 en Madrid\, donde se licenció en Filología Hispánica y se doctoró con una tesis sobre la obra narrativa de Luis Landero. Trabaja como profesor de Lengua castellana y Literatura.\nEntre sus libros de poemas destacan “El retrato del uranio” (Cuadernos de la Errantía\, 2020)\, “Leopardo” (Tigres de papel\, 2017)\, “Los pozos del deseo” (Vitruvio\, 2013) y “Zapatos de andar calles vacías” (Vitruvio\, 2006). También ha publicado el ensayo “El héroe de ficción y las ficciones del héroe en la obra narrativa de Luis Landero” (Pliegos\, 2015)\, así como artículos de crítica literaria en revistas como Turia\, República de las Letras\, Nayagua o Crítica. Textos suyos han sido traducidos al francés\, al inglés y al portugués.\n«Piedra negra\, piedra blanca”\, editado en la colección Rayo azul de Huerga y Fierro\, indaga en la crisis de un hombre de mediana edad frente al paso del tiempo y lo hace desde una perspectiva dialógica\, de voces entrelazadas y por momentos corales\, juguetonas\, descarnadas\, capaces de revelar la fragilidad del rostro tras la máscara.
URL:https://cafecomercialmadrid.com/evento/raul-nieto-de-la-torre-presenta-piedra-negra-piedra-blanca/
LOCATION:Café Comercial\, Glorieta de Bilbao\, 7 - Madrid\, Madrid\, Madrid\, 28004\, Spain
ATTACH;FMTTYPE=image/jpeg:https://cafecomercialmadrid.com/wp-content/uploads/2025/05/Foto-Raul-Nieto-de-la-Torre-e1683501918882-bjNf6j.tmp_.jpg
END:VEVENT
END:VCALENDAR