BEGIN:VCALENDAR
VERSION:2.0
PRODID:-//Original y Castizo - ECPv6.15.14//NONSGML v1.0//EN
CALSCALE:GREGORIAN
METHOD:PUBLISH
X-WR-CALNAME:Original y Castizo
X-ORIGINAL-URL:https://cafecomercialmadrid.com
X-WR-CALDESC:Eventos para Original y Castizo
REFRESH-INTERVAL;VALUE=DURATION:PT1H
X-Robots-Tag:noindex
X-PUBLISHED-TTL:PT1H
BEGIN:VTIMEZONE
TZID:UTC
BEGIN:STANDARD
TZOFFSETFROM:+0000
TZOFFSETTO:+0000
TZNAME:UTC
DTSTART:20240101T000000
END:STANDARD
END:VTIMEZONE
BEGIN:VEVENT
DTSTART;TZID=UTC:20250929T190000
DTEND;TZID=UTC:20250929T203000
DTSTAMP:20260423T212029
CREATED:20250918T111048Z
LAST-MODIFIED:20250918T111048Z
UID:2487-1759172400-1759177800@cafecomercialmadrid.com
SUMMARY:Presentación - Soy guardiana de lo que ya nunca pasará (resurrecciones) de Marifé Santiago Bolaños\, con José Manuel Lucía Megías y Mayda Bustamante
DESCRIPTION:La poeta Marifé Santiago Bolaños\, doctora en Filosofía\, es profesora de Estética en la Facultad de Filosofía de la Universidad Complutense de Madrid\, patrona de la Fundación María Zambrano y académica correspondiente de la Real Academia de Historia y Arte de San Quirce. \nPertenece al ITEM (Instituto de Teatro de Madrid) y a la Academia de las Artes Escénicas de España; codirige el Grupo de Investigación Complutense.
URL:https://cafecomercialmadrid.com/evento/presentacion-soy-guardiana-de-lo-que-ya-nunca-pasara-resurrecciones-de-marife-santiago-bolanos-con-jose-manuel-lucia-megias-y-mayda-bustamante/
LOCATION:Café Comercial\, Glorieta de Bilbao\, 7 - Madrid\, Madrid\, Madrid\, 28004\, Spain
CATEGORIES:Lunes Literarios
ATTACH;FMTTYPE=image/jpeg:https://cafecomercialmadrid.com/wp-content/uploads/2025/09/Lunes-29.jpeg
END:VEVENT
END:VCALENDAR