BEGIN:VCALENDAR
VERSION:2.0
PRODID:-//Original y Castizo - ECPv6.15.14//NONSGML v1.0//EN
CALSCALE:GREGORIAN
METHOD:PUBLISH
X-WR-CALNAME:Original y Castizo
X-ORIGINAL-URL:https://cafecomercialmadrid.com
X-WR-CALDESC:Eventos para Original y Castizo
REFRESH-INTERVAL;VALUE=DURATION:PT1H
X-Robots-Tag:noindex
X-PUBLISHED-TTL:PT1H
BEGIN:VTIMEZONE
TZID:UTC
BEGIN:STANDARD
TZOFFSETFROM:+0000
TZOFFSETTO:+0000
TZNAME:UTC
DTSTART:20220101T000000
END:STANDARD
END:VTIMEZONE
BEGIN:VEVENT
DTSTART;TZID=UTC:20230510T203000
DTEND;TZID=UTC:20230510T230000
DTSTAMP:20260422T214641
CREATED:20250522T155026Z
LAST-MODIFIED:20250522T155026Z
UID:1624-1683750600-1683759600@cafecomercialmadrid.com
SUMMARY:Nino de los Reyes - Tablao Flamenco con Baile
DESCRIPTION:Cante:\n\nJuañares Carrasco\n\nGuitarra:\nAntonio González\n\nPercusión:\nManu Masaedo
URL:https://cafecomercialmadrid.com/evento/nino-de-los-reyes-tablao-flamenco-con-baile/
LOCATION:Café Comercial\, Glorieta de Bilbao\, 7 - Madrid\, Madrid\, Madrid\, 28004\, Spain
CATEGORIES:Conciertos
ATTACH;FMTTYPE=image/png:https://cafecomercialmadrid.com/wp-content/uploads/2025/05/flamenco-y5wWfz.tmp_.png
END:VEVENT
END:VCALENDAR