BEGIN:VCALENDAR
VERSION:2.0
PRODID:-//Original y Castizo - ECPv6.15.14//NONSGML v1.0//EN
CALSCALE:GREGORIAN
METHOD:PUBLISH
X-WR-CALNAME:Original y Castizo
X-ORIGINAL-URL:https://cafecomercialmadrid.com
X-WR-CALDESC:Eventos para Original y Castizo
REFRESH-INTERVAL;VALUE=DURATION:PT1H
X-Robots-Tag:noindex
X-PUBLISHED-TTL:PT1H
BEGIN:VTIMEZONE
TZID:UTC
BEGIN:STANDARD
TZOFFSETFROM:+0000
TZOFFSETTO:+0000
TZNAME:UTC
DTSTART:20220101T000000
END:STANDARD
END:VTIMEZONE
BEGIN:VEVENT
DTSTART;TZID=UTC:20230330T203000
DTEND;TZID=UTC:20230330T223000
DTSTAMP:20260422T120804
CREATED:20250522T154459Z
LAST-MODIFIED:20250523T101321Z
UID:1599-1680208200-1680215400@cafecomercialmadrid.com
SUMMARY:Mason Keck
DESCRIPTION:Mason Keck es un cantautor de Carolina del Norte (EE.UU.)\, que se ha pasado los últimos 16 años recorriendo los Estados Unidos y Europa tocando con su banda de rock Jive Mother Mary. Mason se inició en la música bastante joven y ha perfeccionado sus habilidades como guitarrista y compositor a base de tocar en juke joints y pequeñas salas y bares por la extensa geografía americana. En los cuatro álbumes de material propio publicados hasta la fecha\, inspirados en artistas como Tom Petty\, los Black Crowes\, John Prine o Neil Young\, desde luego se encuentran temas que hacen las delicias de los diferentes tipos de fans de la música americana. Sus canciones\, de hecho\, se apoyan en la tradición blues y folk de EE.UU. para transmitir mensajes que van desde la melancolía a la felicidad\, bien acompañados por una guitarra rítmica que hará que no puedas evitar moverte al son de su música.
URL:https://cafecomercialmadrid.com/evento/mason-keck/
LOCATION:Café Comercial\, Glorieta de Bilbao\, 7 - Madrid\, Madrid\, Madrid\, 28004\, Spain
CATEGORIES:Conciertos
ATTACH;FMTTYPE=image/jpeg:https://cafecomercialmadrid.com/wp-content/uploads/2025/05/Mason-Keek-2-b0mzkJ.tmp_.jpg
END:VEVENT
END:VCALENDAR