BEGIN:VCALENDAR
VERSION:2.0
PRODID:-//Original y Castizo - ECPv6.15.14//NONSGML v1.0//EN
CALSCALE:GREGORIAN
METHOD:PUBLISH
X-WR-CALNAME:Original y Castizo
X-ORIGINAL-URL:https://cafecomercialmadrid.com
X-WR-CALDESC:Eventos para Original y Castizo
REFRESH-INTERVAL;VALUE=DURATION:PT1H
X-Robots-Tag:noindex
X-PUBLISHED-TTL:PT1H
BEGIN:VTIMEZONE
TZID:UTC
BEGIN:STANDARD
TZOFFSETFROM:+0000
TZOFFSETTO:+0000
TZNAME:UTC
DTSTART:20250101T000000
END:STANDARD
END:VTIMEZONE
BEGIN:VEVENT
DTSTART;TZID=UTC:20260423T203000
DTEND;TZID=UTC:20260423T233000
DTSTAMP:20260421T102153
CREATED:20260407T105832Z
LAST-MODIFIED:20260407T105832Z
UID:3147-1776976200-1776987000@cafecomercialmadrid.com
SUMMARY:Martín Cuervo & Miquel Fernández · Estrella Damm Music Sessions
DESCRIPTION:Martín Cuervo es un director de cine y guionista que lleva cantando desde que tiene uso de razón. Sacó 3 discos bajo el nombre de Sethler con Emi\, Warner y Mushroom Pillow y giró por todo el país. Miquel Fernández es un actor y cantante que saltó a la fama con sus personajes protagonistas de algunos de los mejores musicales de la historia de este país como\, por ejemplo\, hoy no me puedo levantar. Ambos trabajaron juntos en la película “La bandera” y les unió su pasión por la música. Ahora\, renuevan su cita con el café comercial para interpretar versiones muy personales de sus canciones favoritas acompañados de su banda.
URL:https://cafecomercialmadrid.com/evento/martin-cuervo-miquel-fernandez-%c2%b7-estrella-damm-music-sessions/
LOCATION:Café Comercial\, Glorieta de Bilbao\, 7 - Madrid\, Madrid\, Madrid\, 28004\, Spain
CATEGORIES:Conciertos
ATTACH;FMTTYPE=image/jpeg:https://cafecomercialmadrid.com/wp-content/uploads/2026/04/IMG_9233-scaled-sx0zMx.tmp_.jpg
END:VEVENT
END:VCALENDAR