BEGIN:VCALENDAR
VERSION:2.0
PRODID:-//Original y Castizo - ECPv6.15.14//NONSGML v1.0//EN
CALSCALE:GREGORIAN
METHOD:PUBLISH
X-WR-CALNAME:Original y Castizo
X-ORIGINAL-URL:https://cafecomercialmadrid.com
X-WR-CALDESC:Eventos para Original y Castizo
REFRESH-INTERVAL;VALUE=DURATION:PT1H
X-Robots-Tag:noindex
X-PUBLISHED-TTL:PT1H
BEGIN:VTIMEZONE
TZID:UTC
BEGIN:STANDARD
TZOFFSETFROM:+0000
TZOFFSETTO:+0000
TZNAME:UTC
DTSTART:20210101T000000
END:STANDARD
END:VTIMEZONE
BEGIN:VEVENT
DTSTART;TZID=UTC:20220530T190000
DTEND;TZID=UTC:20220530T203000
DTSTAMP:20260422T155704
CREATED:20250522T130909Z
LAST-MODIFIED:20250523T093937Z
UID:1293-1653937200-1653942600@cafecomercialmadrid.com
SUMMARY:Lunes Literarios - Pedro Larrea presenta Manuscrito del hechicero
DESCRIPTION:Pedro Larrea (Madrid\, 1981) es autor de tres libros de poemas: La orilla libre (Ártese\, 2013; Nueva York Poetry Press\, 2019); La tribu y la llama (Amargord\, 2015); y Manuscrito del hechicero (Valparaíso\, 2016). Como ensayista\, es autor del estudio Federico García Lorca en Buenos Aires (Renacimiento\, 2015). Como traductor\, ha publicado la edición en español de Book of Hours de Kevin Young (Libro de horas\, Valparaíso\, 2018); Una defensa de la poesía de P.B. Shelley\, acompañada de Las cuatro edades de la poesía\, de T.L. Peacock (Poéticas\, 2019); Sonata Mulattica\, de Rita Dove (Valparaíso\, 2021); y Loca guerrera\, de Joy Harjo (Valparaíso\, 2022). En la actualidad es profesor en la Universidad de Lynchburg\, en Virginia.\n\n\n\n\n\n  \n\n\n\n\nNOTA DE JUAN CARLOS MESTRE PARA PEDRO LARREA:\n«La poética de Pedro Larrea constituye una obra en permanente transformación\, desafiante en su densidad crítica\, rigurosa en lo conceptual y de lúcida clarividencia emotiva\, lo que la convierte ya en un referente imprescindible de la lírica actual española. Ahondamiento de una experiencia sensible que cifra en el asombro y la vibración del lenguaje\, en la objetividad textual y la imaginación creativa\, una tensión discursiva de inéditas resonancias\, de nuevas aportaciones e irradiantes sentidos; una sabía percepción del ser humano y la atmósfera semántica del mundo\, palabras para construir un refugio ético a la verdad y a la razón  analógica que vincula la conciencia al desvelamiento de otra más intensa belleza\, una dicción estética en desafiante fuga de la costumbre\, una voz tan culta como apasionante en su conducta formal\, un texto abierto hacia la ampliación de los horizontes significativos del porvenir.»
URL:https://cafecomercialmadrid.com/evento/lunes-literarios-pedro-larrea-presenta-manuscrito-del-hechicero/
LOCATION:Café Comercial\, Glorieta de Bilbao\, 7 - Madrid\, Madrid\, Madrid\, 28004\, Spain
ATTACH;FMTTYPE=image/jpeg:https://cafecomercialmadrid.com/wp-content/uploads/2025/05/PEDRO-LARREA-1-IR7wUW.tmp_.jpg
END:VEVENT
END:VCALENDAR