BEGIN:VCALENDAR
VERSION:2.0
PRODID:-//Original y Castizo - ECPv6.15.14//NONSGML v1.0//EN
CALSCALE:GREGORIAN
METHOD:PUBLISH
X-WR-CALNAME:Original y Castizo
X-ORIGINAL-URL:https://cafecomercialmadrid.com
X-WR-CALDESC:Eventos para Original y Castizo
REFRESH-INTERVAL;VALUE=DURATION:PT1H
X-Robots-Tag:noindex
X-PUBLISHED-TTL:PT1H
BEGIN:VTIMEZONE
TZID:UTC
BEGIN:STANDARD
TZOFFSETFROM:+0000
TZOFFSETTO:+0000
TZNAME:UTC
DTSTART:20210101T000000
END:STANDARD
END:VTIMEZONE
BEGIN:VEVENT
DTSTART;TZID=UTC:20221005T210000
DTEND;TZID=UTC:20221005T230000
DTSTAMP:20260426T061515
CREATED:20250522T131312Z
LAST-MODIFIED:20250523T094614Z
UID:1308-1665003600-1665010800@cafecomercialmadrid.com
SUMMARY:Llevar La Razón No Mola
DESCRIPTION:“Llevar razón no mola” es una declaración de intenciones en los tiempos que corren. El nombre que titula los debates de Rodra y el Comercial\, en los que dos invitados siempre de interés expondrán sus opiniones sobre los temas del momento. Al final y con ayuda del público se darán cuenta de que en una discusión o en un debate\, llevar la razón no es lo más importante.
URL:https://cafecomercialmadrid.com/evento/llevar-la-razon-no-mola/
LOCATION:Café Comercial\, Glorieta de Bilbao\, 7 - Madrid\, Madrid\, Madrid\, 28004\, Spain
CATEGORIES:Monólogos
END:VEVENT
END:VCALENDAR