BEGIN:VCALENDAR
VERSION:2.0
PRODID:-//Original y Castizo - ECPv6.15.14//NONSGML v1.0//EN
CALSCALE:GREGORIAN
METHOD:PUBLISH
X-WR-CALNAME:Original y Castizo
X-ORIGINAL-URL:https://cafecomercialmadrid.com
X-WR-CALDESC:Eventos para Original y Castizo
REFRESH-INTERVAL;VALUE=DURATION:PT1H
X-Robots-Tag:noindex
X-PUBLISHED-TTL:PT1H
BEGIN:VTIMEZONE
TZID:UTC
BEGIN:STANDARD
TZOFFSETFROM:+0000
TZOFFSETTO:+0000
TZNAME:UTC
DTSTART:20190101T000000
END:STANDARD
END:VTIMEZONE
BEGIN:VEVENT
DTSTART;TZID=UTC:20201118T203000
DTEND;TZID=UTC:20201118T220000
DTSTAMP:20260422T201652
CREATED:20250522T122858Z
LAST-MODIFIED:20250523T090804Z
UID:1104-1605731400-1605736800@cafecomercialmadrid.com
SUMMARY:LITOS FERNÁNDEZ - Monólogo
DESCRIPTION:Atrevido y sin pelos en la lengua\, así es Litos. Un humorista\, cómico y monologuísta asturiano como hay pocos en España .Y es que nadie puede aguantarse las carcajadas cuando asiste a uno de los monólogos de este maestro de la ironía.\nLitos cuenta con una amplia trayectoria\, ha colaborado en Phi Beta Lambda\, Comedy Central Live y en algún show con Ignatius entre muchos tantos.
URL:https://cafecomercialmadrid.com/evento/litos-fernandez-monologo/
LOCATION:Café Comercial\, Glorieta de Bilbao\, 7 - Madrid\, Madrid\, Madrid\, 28004\, Spain
CATEGORIES:Monólogos
ATTACH;FMTTYPE=image/jpeg:https://cafecomercialmadrid.com/wp-content/uploads/2025/05/LITO-XzYRCx.tmp_.jpg
END:VEVENT
END:VCALENDAR