BEGIN:VCALENDAR
VERSION:2.0
PRODID:-//Original y Castizo - ECPv6.15.14//NONSGML v1.0//EN
CALSCALE:GREGORIAN
METHOD:PUBLISH
X-WR-CALNAME:Original y Castizo
X-ORIGINAL-URL:https://cafecomercialmadrid.com
X-WR-CALDESC:Eventos para Original y Castizo
REFRESH-INTERVAL;VALUE=DURATION:PT1H
X-Robots-Tag:noindex
X-PUBLISHED-TTL:PT1H
BEGIN:VTIMEZONE
TZID:UTC
BEGIN:STANDARD
TZOFFSETFROM:+0000
TZOFFSETTO:+0000
TZNAME:UTC
DTSTART:20220101T000000
END:STANDARD
END:VTIMEZONE
BEGIN:VEVENT
DTSTART;TZID=UTC:20230222T200000
DTEND;TZID=UTC:20230222T223000
DTSTAMP:20260421T231407
CREATED:20250522T154332Z
LAST-MODIFIED:20250523T101109Z
UID:1592-1677096000-1677105000@cafecomercialmadrid.com
SUMMARY:HOT SHOT · CINE & CENA
DESCRIPTION:La cena más cómica en el Café Comercial ¿Puede haber mejor plan que una tarde de Hot Shot acomapañada de una estupenda cena en un sitio emblemático? El ciclo de comedia comienza este mes con la proyección de Hot Shot\, para disfrutar de una completa Flmografía para partirse.\nHot Shot es una película estadounidense de humor en la que se parodian películas como Top Gun\, Bailando con lobos o Nueve semanas y media. Dirigida por Jim Abrahams y con protagonistas como Charlie Sheen\, Lloyd Bridges\, Valetia Golino\, Cary Elwes\, entre otros.
URL:https://cafecomercialmadrid.com/evento/hot-shot-%c2%b7-cine-cena/
LOCATION:Café Comercial\, Glorieta de Bilbao\, 7 - Madrid\, Madrid\, Madrid\, 28004\, Spain
CATEGORIES:Miércoles de Cine+Cena
ATTACH;FMTTYPE=image/jpeg:https://cafecomercialmadrid.com/wp-content/uploads/2025/05/Hot_Shots_A_La_madre_de_todos_los_desmadres-770260574-large-dNCig8.tmp_.jpg
END:VEVENT
END:VCALENDAR