BEGIN:VCALENDAR
VERSION:2.0
PRODID:-//Original y Castizo - ECPv6.15.14//NONSGML v1.0//EN
CALSCALE:GREGORIAN
METHOD:PUBLISH
X-WR-CALNAME:Original y Castizo
X-ORIGINAL-URL:https://cafecomercialmadrid.com
X-WR-CALDESC:Eventos para Original y Castizo
REFRESH-INTERVAL;VALUE=DURATION:PT1H
X-Robots-Tag:noindex
X-PUBLISHED-TTL:PT1H
BEGIN:VTIMEZONE
TZID:UTC
BEGIN:STANDARD
TZOFFSETFROM:+0000
TZOFFSETTO:+0000
TZNAME:UTC
DTSTART:20240101T000000
END:STANDARD
END:VTIMEZONE
BEGIN:VEVENT
DTSTART;TZID=UTC:20250930T190000
DTEND;TZID=UTC:20250930T203000
DTSTAMP:20260423T212428
CREATED:20250918T111106Z
LAST-MODIFIED:20250918T111106Z
UID:2490-1759258800-1759264200@cafecomercialmadrid.com
SUMMARY:Encuento Literario - con Aarón García Peña
DESCRIPTION:Director de la Feria del Libro de Vallecas (desde 2018) Presentador y organizador de actividades para los Centros Culturales del Ayuntamiento de Madrid (desde 2005).
URL:https://cafecomercialmadrid.com/evento/encuento-literario-con-aaron-garcia-pena/
LOCATION:Café Comercial\, Glorieta de Bilbao\, 7 - Madrid\, Madrid\, Madrid\, 28004\, Spain
CATEGORIES:Lunes Literarios
ATTACH;FMTTYPE=image/jpeg:https://cafecomercialmadrid.com/wp-content/uploads/2025/09/Martes-30.jpeg
END:VEVENT
END:VCALENDAR