BEGIN:VCALENDAR
VERSION:2.0
PRODID:-//Original y Castizo - ECPv6.15.14//NONSGML v1.0//EN
CALSCALE:GREGORIAN
METHOD:PUBLISH
X-WR-CALNAME:Original y Castizo
X-ORIGINAL-URL:https://cafecomercialmadrid.com
X-WR-CALDESC:Eventos para Original y Castizo
REFRESH-INTERVAL;VALUE=DURATION:PT1H
X-Robots-Tag:noindex
X-PUBLISHED-TTL:PT1H
BEGIN:VTIMEZONE
TZID:UTC
BEGIN:STANDARD
TZOFFSETFROM:+0000
TZOFFSETTO:+0000
TZNAME:UTC
DTSTART:20210101T000000
END:STANDARD
END:VTIMEZONE
BEGIN:VEVENT
DTSTART;TZID=UTC:20220205T143000
DTEND;TZID=UTC:20220205T170000
DTSTAMP:20260422T050811
CREATED:20250522T125559Z
LAST-MODIFIED:20250604T074621Z
UID:1242-1644071400-1644080400@cafecomercialmadrid.com
SUMMARY: David Zayas
DESCRIPTION: Concierto/Flamenco/Pop/Rumba.\nNacido el 15 de Abril de 1983 en Terrassa (Barcelona)\nCon estudios de música\, guitarra flamenca\, piano e interpretación. Creció en Rubí (Barcelona) entre grandes flamencos gitanos\, la familia del gran artista Vicente de Castro “Parrita” amigo suyo que en paz descanse. Comenzó a tocar la guitarra con 20 años aprendiendo de la mano de José Maya. De esta manera comenzó a cantar por los bares\, parques de Rubí y Barcelona.\nDe Alcalá de los Gazules (Cádiz) “su tierra” así le llama\, cómo él se siente\, su pueblo materno que comparte con el gran maestro Alejandro Sanz.\nTocando\, cantando por bares\, tabernas de Cádiz\, toma la decisión de emprender una aventura en la gran ciudad MADRID\, donde comienza a inspirarse\, componer y grabar sus propias canciones\, con un estilo propio de pop y destellos aflamencados con voz rasgada y sentimiento.\nEn Madrid\, Cádiz y seguidamente alrededores le abren las puertas encandilando a su público haciendo versiones tipo Alejandro Sanz\, Antonio Orozco\, Manuel Carrasco\, Manzanita\, Rumba\, etc…\nTiene un propio club de fans \, el cual no cesa de seguir ampliando su historia en todo el mundo.\nCanta para marcas de la talla de Coca-Cola\, Heineken y también los mejores locales de Madrid como el Florida Park (Retiro)… La Aurora\, Rita La Cantaora\,  Malamaluca\, Restaurantes como Mesón Txistu…
URL:https://cafecomercialmadrid.com/evento/david-zayas/
LOCATION:Café Comercial\, Glorieta de Bilbao\, 7 - Madrid\, Madrid\, Madrid\, 28004\, Spain
CATEGORIES:Conciertos
ATTACH;FMTTYPE=image/jpeg:https://cafecomercialmadrid.com/wp-content/uploads/2025/05/David-Zayas-iaGBzR.tmp_.jpg
END:VEVENT
END:VCALENDAR