BEGIN:VCALENDAR
VERSION:2.0
PRODID:-//Original y Castizo - ECPv6.15.14//NONSGML v1.0//EN
CALSCALE:GREGORIAN
METHOD:PUBLISH
X-WR-CALNAME:Original y Castizo
X-ORIGINAL-URL:https://cafecomercialmadrid.com
X-WR-CALDESC:Eventos para Original y Castizo
REFRESH-INTERVAL;VALUE=DURATION:PT1H
X-Robots-Tag:noindex
X-PUBLISHED-TTL:PT1H
BEGIN:VTIMEZONE
TZID:UTC
BEGIN:STANDARD
TZOFFSETFROM:+0000
TZOFFSETTO:+0000
TZNAME:UTC
DTSTART:20240101T000000
END:STANDARD
END:VTIMEZONE
BEGIN:VEVENT
DTSTART;TZID=UTC:20251001T203000
DTEND;TZID=UTC:20251001T233000
DTSTAMP:20260423T181124
CREATED:20250918T114235Z
LAST-MODIFIED:20250918T114235Z
UID:2498-1759350600-1759361400@cafecomercialmadrid.com
SUMMARY:Americana House Band - Estrella Damm Music Sessions
DESCRIPTION:El ilustre Café Comercial te trae todos los meses la genuina música de raíces de EEUU de la mano de su «Americana House Band» e invitados de lujo\, mientras disfrutas de una cocina fetén\, original y castiza y la sala se convierte en un auténtico «dancehall» en el centro de Madrid.
URL:https://cafecomercialmadrid.com/evento/americana-house-band-estrella-damm-music-sessions-2/
LOCATION:Café Comercial\, Glorieta de Bilbao\, 7 - Madrid\, Madrid\, Madrid\, 28004\, Spain
CATEGORIES:Conciertos
ATTACH;FMTTYPE=image/jpeg:https://cafecomercialmadrid.com/wp-content/uploads/2025/06/WhatsApp-Image-2025-06-05-at-13.41.35.jpeg
END:VEVENT
END:VCALENDAR