BEGIN:VCALENDAR
VERSION:2.0
PRODID:-//Original y Castizo - ECPv6.15.14//NONSGML v1.0//EN
CALSCALE:GREGORIAN
METHOD:PUBLISH
X-WR-CALNAME:Original y Castizo
X-ORIGINAL-URL:https://cafecomercialmadrid.com
X-WR-CALDESC:Eventos para Original y Castizo
REFRESH-INTERVAL;VALUE=DURATION:PT1H
X-Robots-Tag:noindex
X-PUBLISHED-TTL:PT1H
BEGIN:VTIMEZONE
TZID:UTC
BEGIN:STANDARD
TZOFFSETFROM:+0000
TZOFFSETTO:+0000
TZNAME:UTC
DTSTART:20220101T000000
END:STANDARD
END:VTIMEZONE
BEGIN:VEVENT
DTSTART;TZID=UTC:20230427T203000
DTEND;TZID=UTC:20230427T230000
DTSTAMP:20260422T214223
CREATED:20250522T154911Z
LAST-MODIFIED:20250522T154911Z
UID:1619-1682627400-1682636400@cafecomercialmadrid.com
SUMMARY:Allende - Primavera 2023 Estrella Damm Music Sessions
DESCRIPTION:«Allende (Madrid 1993) es intensidad en forma de canción. Tras haber formado parte de varias bandas\, comienza su carrera en solitario hace 5 años con su primer Ep «Dame un momento» (2017). La carta de presentación que le lleva a llenar las salas más relevantes de la capital y compartir escenario con grandes bandas del panorama actual. Ahora con su nuevo disco «Nuestra Intensidad» (2022)\, descubre su esencia más emocional y su actitud más rock. Un disco de 10 canciones que reúnen la realidad que vive y siente el artista madrileño. En 2023\, Allende saldrá a hacer una gira en la que visitará gran variedad de ciudades como Barcelona\, Zaragoza\, Huesca\, Valencia\, Sevilla\, Madrid… entre otras.
URL:https://cafecomercialmadrid.com/evento/allende-primavera-2023-estrella-damm-music-sessions/
LOCATION:Café Comercial\, Glorieta de Bilbao\, 7 - Madrid\, Madrid\, Madrid\, 28004\, Spain
CATEGORIES:Estrella Damm Music Sessions
ATTACH;FMTTYPE=image/jpeg:https://cafecomercialmadrid.com/wp-content/uploads/2025/05/ALLENDE-3-Y6i6HN.tmp_.jpg
END:VEVENT
END:VCALENDAR