BEGIN:VCALENDAR
VERSION:2.0
PRODID:-//Original y Castizo - ECPv6.15.14//NONSGML v1.0//EN
CALSCALE:GREGORIAN
METHOD:PUBLISH
X-WR-CALNAME:Original y Castizo
X-ORIGINAL-URL:https://cafecomercialmadrid.com/en/
X-WR-CALDESC:Events for Original y Castizo
REFRESH-INTERVAL;VALUE=DURATION:PT1H
X-Robots-Tag:noindex
X-PUBLISHED-TTL:PT1H
BEGIN:VTIMEZONE
TZID:Europe/Madrid
BEGIN:DAYLIGHT
TZOFFSETFROM:+0100
TZOFFSETTO:+0200
TZNAME:CEST
DTSTART:20250330T010000
END:DAYLIGHT
BEGIN:STANDARD
TZOFFSETFROM:+0200
TZOFFSETTO:+0100
TZNAME:CET
DTSTART:20251026T010000
END:STANDARD
BEGIN:DAYLIGHT
TZOFFSETFROM:+0100
TZOFFSETTO:+0200
TZNAME:CEST
DTSTART:20260329T010000
END:DAYLIGHT
BEGIN:STANDARD
TZOFFSETFROM:+0200
TZOFFSETTO:+0100
TZNAME:CET
DTSTART:20261025T010000
END:STANDARD
BEGIN:DAYLIGHT
TZOFFSETFROM:+0100
TZOFFSETTO:+0200
TZNAME:CEST
DTSTART:20270328T010000
END:DAYLIGHT
BEGIN:STANDARD
TZOFFSETFROM:+0200
TZOFFSETTO:+0100
TZNAME:CET
DTSTART:20271031T010000
END:STANDARD
END:VTIMEZONE
BEGIN:VEVENT
DTSTART;TZID=Europe/Madrid:20260317T190000
DTEND;TZID=Europe/Madrid:20260317T200000
DTSTAMP:20260422T111832
CREATED:20260223T123128Z
LAST-MODIFIED:20260223T123128Z
UID:2962-1773774000-1773777600@cafecomercialmadrid.com
SUMMARY:Ways of Being Wrong. Poetry recital by Jorge Rodríguez Hidalgo and Raúl Nieto de la Torre\, accompanied by Javier Gil Martín
DESCRIPTION:Jorge Rodríguez Hidaldo (Cornellà de Llobregat\, 1961)\, holds a degree in Journalism from the Universitat Autònoma de Barcelona and is a poet. To date\, he has published the poetry collections: Humanódromo (Barcelona\, 1997); La sobriedad de la distancia (Madrid\, 2004)\, El follador del puerto (carmen adentro) (Barcelona\, 2015) and\, in Catalan\, En temps inabastable (Barcelona\, 2022)\, whose Spanish version—En tiempo inalcanzable (Buenos Aires\, 2025)—has been published in Argentina by the publishers La Yunta and Cartografías\, and Bertania (2024). Some of his poems have been published in digital magazines\, such as the “Fonoteca de Poesía”\, by Boockmovie. The following remain unpublished: Suma de desmesuras\, La estancia  impagable and Los ojos en la lengua. Raúl Nieto de la Torre was born in Madrid in 1978\, although his family and his earliest memories place him emotionally in the mountains of Cuenca. He has lived in the south  of France and has spent long periods in the United States. He holds a degree in  Hispanic Philology and a PhD in Spanish Literature from the Universidad Autónoma de Madrid\, with a thesis on the novelist Luis Landero.
URL:https://cafecomercialmadrid.com/en/evento/ways-of-being-wrong-poetry-recital-by-jorge-rodriguez-hidalgo-and-raul-nieto-de-la-torre-accompanied-by-javier-gil-martin/
LOCATION:Café Comercial\, Glorieta de Bilbao\, 7 - Madrid\, Madrid\, Madrid\, 28004\, Spain
CATEGORIES:Literary Mondays
ATTACH;FMTTYPE=image/png:https://cafecomercialmadrid.com/wp-content/uploads/2026/02/17mar.png
END:VEVENT
END:VCALENDAR