BEGIN:VCALENDAR
VERSION:2.0
PRODID:-//Original y Castizo - ECPv6.15.14//NONSGML v1.0//EN
CALSCALE:GREGORIAN
METHOD:PUBLISH
X-WR-CALNAME:Original y Castizo
X-ORIGINAL-URL:https://cafecomercialmadrid.com/en/
X-WR-CALDESC:Events for Original y Castizo
REFRESH-INTERVAL;VALUE=DURATION:PT1H
X-Robots-Tag:noindex
X-PUBLISHED-TTL:PT1H
BEGIN:VTIMEZONE
TZID:Europe/Madrid
BEGIN:DAYLIGHT
TZOFFSETFROM:+0100
TZOFFSETTO:+0200
TZNAME:CEST
DTSTART:20250330T010000
END:DAYLIGHT
BEGIN:STANDARD
TZOFFSETFROM:+0200
TZOFFSETTO:+0100
TZNAME:CET
DTSTART:20251026T010000
END:STANDARD
BEGIN:DAYLIGHT
TZOFFSETFROM:+0100
TZOFFSETTO:+0200
TZNAME:CEST
DTSTART:20260329T010000
END:DAYLIGHT
BEGIN:STANDARD
TZOFFSETFROM:+0200
TZOFFSETTO:+0100
TZNAME:CET
DTSTART:20261025T010000
END:STANDARD
BEGIN:DAYLIGHT
TZOFFSETFROM:+0100
TZOFFSETTO:+0200
TZNAME:CEST
DTSTART:20270328T010000
END:DAYLIGHT
BEGIN:STANDARD
TZOFFSETFROM:+0200
TZOFFSETTO:+0100
TZNAME:CET
DTSTART:20271031T010000
END:STANDARD
END:VTIMEZONE
BEGIN:VEVENT
DTSTART;TZID=Europe/Madrid:20260323T190000
DTEND;TZID=Europe/Madrid:20260323T200000
DTSTAMP:20260422T081200
CREATED:20260223T123427Z
LAST-MODIFIED:20260223T123427Z
UID:2958-1774292400-1774296000@cafecomercialmadrid.com
SUMMARY:Vindication of the poets Ana Martín Puigpelat and Carmen Díaz-Maroto\, accompanied by Juan José Martín Ramos
DESCRIPTION:POETRY SERIES: VINDICATIONS  \nAlthough someone\, with very good judgment\, could probably reproach us for the poor use of the word “vindications” for this literary series at the Comercial\, in reality we embrace—literarily\, and with no small license—its meaning of “reclaiming what belongs to one.” And what belongs to the writers we present?: THEIR RIGHTFUL PLACE IN THE LITERARY ATTENTION OF THE MOMENT.
URL:https://cafecomercialmadrid.com/en/evento/vindication-of-the-poets-ana-martin-puigpelat-and-carmen-diaz-maroto-accompanied-by-juan-jose-martin-ramos/
LOCATION:Café Comercial\, Glorieta de Bilbao\, 7 - Madrid\, Madrid\, Madrid\, 28004\, Spain
CATEGORIES:Literary Mondays
ATTACH;FMTTYPE=image/png:https://cafecomercialmadrid.com/wp-content/uploads/2026/02/23mar.png
END:VEVENT
END:VCALENDAR