BEGIN:VCALENDAR
VERSION:2.0
PRODID:-//Original y Castizo - ECPv6.15.14//NONSGML v1.0//EN
CALSCALE:GREGORIAN
METHOD:PUBLISH
X-WR-CALNAME:Original y Castizo
X-ORIGINAL-URL:https://cafecomercialmadrid.com/en/
X-WR-CALDESC:Events for Original y Castizo
REFRESH-INTERVAL;VALUE=DURATION:PT1H
X-Robots-Tag:noindex
X-PUBLISHED-TTL:PT1H
BEGIN:VTIMEZONE
TZID:UTC
BEGIN:STANDARD
TZOFFSETFROM:+0000
TZOFFSETTO:+0000
TZNAME:UTC
DTSTART:20250101T000000
END:STANDARD
END:VTIMEZONE
BEGIN:VEVENT
DTSTART;TZID=UTC:20260224T203000
DTEND;TZID=UTC:20260224T233000
DTSTAMP:20260423T044443
CREATED:20260130T102006Z
LAST-MODIFIED:20260130T102006Z
UID:2984-1771965000-1771975800@cafecomercialmadrid.com
SUMMARY:Una de las Nuestras - Live Podcast with Arturo Valls\, Meri Aragón and María Valero
DESCRIPTION:How many podcasts are there about cinema? MANY. How many led by three women? Few or NONE. This podcast is born from the love and fascination for cinema of these three women. But also from the weariness of the current landscape in which it seems that only men can or know how to talk about cinema. \nBecause we also love Tarantino\, Marvel\, Kubrick\, Yorgos Lanthimos\, the Coppolas\, Wes Anderson\, Grindhouse\, gore and war films. And no\, our favorite film is not The Notebook.
URL:https://cafecomercialmadrid.com/en/evento/una-de-las-nuestras-live-podcast-with-arturo-valls-meri-aragon-and-maria-valero/
LOCATION:Café Comercial\, Glorieta de Bilbao\, 7 - Madrid\, Madrid\, Madrid\, 28004\, Spain
CATEGORIES:Culture
ATTACH;FMTTYPE=image/png:https://cafecomercialmadrid.com/wp-content/uploads/2025/05/unadelasnuestras-ZCUaK6.tmp_.png
END:VEVENT
END:VCALENDAR