BEGIN:VCALENDAR
VERSION:2.0
PRODID:-//Original y Castizo - ECPv6.15.14//NONSGML v1.0//EN
CALSCALE:GREGORIAN
METHOD:PUBLISH
X-WR-CALNAME:Original y Castizo
X-ORIGINAL-URL:https://cafecomercialmadrid.com/en/
X-WR-CALDESC:Events for Original y Castizo
REFRESH-INTERVAL;VALUE=DURATION:PT1H
X-Robots-Tag:noindex
X-PUBLISHED-TTL:PT1H
BEGIN:VTIMEZONE
TZID:Europe/Madrid
BEGIN:DAYLIGHT
TZOFFSETFROM:+0100
TZOFFSETTO:+0200
TZNAME:CEST
DTSTART:20250330T010000
END:DAYLIGHT
BEGIN:STANDARD
TZOFFSETFROM:+0200
TZOFFSETTO:+0100
TZNAME:CET
DTSTART:20251026T010000
END:STANDARD
BEGIN:DAYLIGHT
TZOFFSETFROM:+0100
TZOFFSETTO:+0200
TZNAME:CEST
DTSTART:20260329T010000
END:DAYLIGHT
BEGIN:STANDARD
TZOFFSETFROM:+0200
TZOFFSETTO:+0100
TZNAME:CET
DTSTART:20261025T010000
END:STANDARD
BEGIN:DAYLIGHT
TZOFFSETFROM:+0100
TZOFFSETTO:+0200
TZNAME:CEST
DTSTART:20270328T010000
END:DAYLIGHT
BEGIN:STANDARD
TZOFFSETFROM:+0200
TZOFFSETTO:+0100
TZNAME:CET
DTSTART:20271031T010000
END:STANDARD
END:VTIMEZONE
BEGIN:VEVENT
DTSTART;TZID=Europe/Madrid:20260316T190000
DTEND;TZID=Europe/Madrid:20260316T200000
DTSTAMP:20260422T125744
CREATED:20260223T122828Z
LAST-MODIFIED:20260223T122828Z
UID:2964-1773687600-1773691200@cafecomercialmadrid.com
SUMMARY:Presentation of Hedor de ángel by Carmen Sancho Guinda\, accompanied by Concha Vicente Esteban\, Javier Mateo Hidalgo\, and Charo Fierro
DESCRIPTION:Carmen Sancho Guinda is an Associate Professor in the Department of Applied Linguistics for Science and Technology at the Universidad Politécnica de Madrid\, where she teaches English for academic and professional communication. Although she has been writing poetry for more than thirty years and\, during her student years in the United States\, she was taught by the great American poet Conrad Hilberry\, she does not have a literary biography\, but an academic one: all her publications to date have focused on linguistics and on teaching and learning languages for specific purposes. “Hedor de Ángel” is her first published poetry collection.
URL:https://cafecomercialmadrid.com/en/evento/presentation-of-hedor-de-angel-by-carmen-sancho-guinda-accompanied-by-concha-vicente-esteban-javier-mateo-hidalgo-and-charo-fierro/
LOCATION:Café Comercial\, Glorieta de Bilbao\, 7 - Madrid\, Madrid\, Madrid\, 28004\, Spain
CATEGORIES:Literary Mondays
ATTACH;FMTTYPE=image/jpeg:https://cafecomercialmadrid.com/wp-content/uploads/2026/02/Lunes-16.jpeg
END:VEVENT
END:VCALENDAR