BEGIN:VCALENDAR
VERSION:2.0
PRODID:-//Original y Castizo - ECPv6.15.14//NONSGML v1.0//EN
CALSCALE:GREGORIAN
METHOD:PUBLISH
X-WR-CALNAME:Original y Castizo
X-ORIGINAL-URL:https://cafecomercialmadrid.com/en/
X-WR-CALDESC:Events for Original y Castizo
REFRESH-INTERVAL;VALUE=DURATION:PT1H
X-Robots-Tag:noindex
X-PUBLISHED-TTL:PT1H
BEGIN:VTIMEZONE
TZID:UTC
BEGIN:STANDARD
TZOFFSETFROM:+0000
TZOFFSETTO:+0000
TZNAME:UTC
DTSTART:20250101T000000
END:STANDARD
END:VTIMEZONE
BEGIN:VEVENT
DTSTART;TZID=UTC:20260325T203000
DTEND;TZID=UTC:20260325T233000
DTSTAMP:20260422T050852
CREATED:20260204T132254Z
LAST-MODIFIED:20260204T132254Z
UID:2891-1774470600-1774481400@cafecomercialmadrid.com
SUMMARY:Pablo García · Estrella Damm Music Sessions
DESCRIPTION:“A bohemian with a tendency to write and sing songs\, with the aim of nourishing the soul and touching hearts.”  \nThis is how Pablo García defines himself\, a young singer-songwriter who blends his Catalan and Andalusian roots (Sabadell and Huelva) to create songs that go straight to the heart.  \nWith his intimate and close voice\, and lyrics full of poetry\, Pablo invites us to travel through his artistic universe where various musical styles coexist. Although he maintains that his musical genre is music in general.  \nAwarded in numerous national singer-songwriter competitions and with performances in such emblematic venues as Libertad 8 and Búho Real in Madrid\, his music is an experience that moves and connects.  \nAfter releasing tracks such as Celda de Alcatraz\, Animal de Manila or his latest single Aire de enero\, he arrives with a live performance full of sensitivity and creative power.
URL:https://cafecomercialmadrid.com/en/evento/pablo-garcia-%c2%b7-estrella-damm-music-sessions/
LOCATION:Café Comercial\, Glorieta de Bilbao\, 7 - Madrid\, Madrid\, Madrid\, 28004\, Spain
CATEGORIES:Concerts
ATTACH;FMTTYPE=image/jpeg:https://cafecomercialmadrid.com/wp-content/uploads/2026/02/PG-CINCA-SABINA.jpg
END:VEVENT
END:VCALENDAR