BEGIN:VCALENDAR
VERSION:2.0
PRODID:-//Original y Castizo - ECPv6.15.14//NONSGML v1.0//EN
CALSCALE:GREGORIAN
METHOD:PUBLISH
X-WR-CALNAME:Original y Castizo
X-ORIGINAL-URL:https://cafecomercialmadrid.com/en/
X-WR-CALDESC:Events for Original y Castizo
REFRESH-INTERVAL;VALUE=DURATION:PT1H
X-Robots-Tag:noindex
X-PUBLISHED-TTL:PT1H
BEGIN:VTIMEZONE
TZID:Europe/Madrid
BEGIN:DAYLIGHT
TZOFFSETFROM:+0100
TZOFFSETTO:+0200
TZNAME:CEST
DTSTART:20250330T010000
END:DAYLIGHT
BEGIN:STANDARD
TZOFFSETFROM:+0200
TZOFFSETTO:+0100
TZNAME:CET
DTSTART:20251026T010000
END:STANDARD
BEGIN:DAYLIGHT
TZOFFSETFROM:+0100
TZOFFSETTO:+0200
TZNAME:CEST
DTSTART:20260329T010000
END:DAYLIGHT
BEGIN:STANDARD
TZOFFSETFROM:+0200
TZOFFSETTO:+0100
TZNAME:CET
DTSTART:20261025T010000
END:STANDARD
BEGIN:DAYLIGHT
TZOFFSETFROM:+0100
TZOFFSETTO:+0200
TZNAME:CEST
DTSTART:20270328T010000
END:DAYLIGHT
BEGIN:STANDARD
TZOFFSETFROM:+0200
TZOFFSETTO:+0100
TZNAME:CET
DTSTART:20271031T010000
END:STANDARD
END:VTIMEZONE
BEGIN:VEVENT
DTSTART;TZID=Europe/Madrid:20260302T190000
DTEND;TZID=Europe/Madrid:20260302T200000
DTSTAMP:20260423T001707
CREATED:20260223T122317Z
LAST-MODIFIED:20260223T122317Z
UID:2978-1772478000-1772481600@cafecomercialmadrid.com
SUMMARY:Life in a Stroke by Javier Recas\, featuring Ricardo Martínez Conde and Ricardo Virtanen
DESCRIPTION:Javier Recas Bayón (Madrid\, 1961)\, is an aphorist\, philosopher\, and painter. He holds a Ph.D. in Philosophy from the Complutense University of Madrid\, and has pursued extensive teaching and research activities. Notable among his numerous publications are the following\, related to aphorism and the masters of the genre. Essays such as Flashes of Lucidity: The Art of Aphorism (2014); A Sharp and Graceful Miniature (2020\, Romanian translation 2025); The Art of Lightness: Philosophy of Aphorism (2021); An Approach to Philosophical Aphorism (2024); and Life in a Stroke (2025).
URL:https://cafecomercialmadrid.com/en/evento/life-in-a-stroke-by-javier-recas-featuring-ricardo-martinez-conde-and-ricardo-virtanen/
LOCATION:Café Comercial\, Glorieta de Bilbao\, 7 - Madrid\, Madrid\, Madrid\, 28004\, Spain
CATEGORIES:Literary Mondays
ATTACH;FMTTYPE=image/jpeg:https://cafecomercialmadrid.com/wp-content/uploads/2026/02/Lunes-2.jpeg
END:VEVENT
END:VCALENDAR