BEGIN:VCALENDAR
VERSION:2.0
PRODID:-//Original y Castizo - ECPv6.15.14//NONSGML v1.0//EN
CALSCALE:GREGORIAN
METHOD:PUBLISH
X-WR-CALNAME:Original y Castizo
X-ORIGINAL-URL:https://cafecomercialmadrid.com
X-WR-CALDESC:Eventos para Original y Castizo
REFRESH-INTERVAL;VALUE=DURATION:PT1H
X-Robots-Tag:noindex
X-PUBLISHED-TTL:PT1H
BEGIN:VTIMEZONE
TZID:UTC
BEGIN:STANDARD
TZOFFSETFROM:+0000
TZOFFSETTO:+0000
TZNAME:UTC
DTSTART:20250101T000000
END:STANDARD
END:VTIMEZONE
BEGIN:VEVENT
DTSTART;TZID=UTC:20260422T203000
DTEND;TZID=UTC:20260422T233000
DTSTAMP:20260422T035554
CREATED:20260407T105638Z
LAST-MODIFIED:20260410T101157Z
UID:10000509-1776889800-1776900600@cafecomercialmadrid.com
SUMMARY:Santa Milonga · Pop/Rock · Johhnie Walker Keep Walking Together
DESCRIPTION:Somos una banda de músicos que participan en las principales giras del panorama nacional.\n\nCon estilo propio y un repertorio de grandes éxitos\, elevamos la energía de tu evento\, celebración al siguiente nivel.\n\nMúsico en gira con Dani Martin\, Manuel Carrasco o Rulo y La Contrabanda.\n \nGera Maleh · Voz\nPepe Curioni · Bajo y coros\nRober Lavella · Guitarra\nChilo · Batería y coros
URL:https://cafecomercialmadrid.com/evento/santa-milonga-%c2%b7-pop-rock-%c2%b7-don-julio/
LOCATION:Café Comercial\, Glorieta de Bilbao\, 7 - Madrid\, Madrid\, Madrid\, 28004\, Spain
CATEGORIES:Conciertos
ATTACH;FMTTYPE=image/jpeg:https://cafecomercialmadrid.com/wp-content/uploads/2026/04/milonga_III_grande-scaled.jpg
END:VEVENT
END:VCALENDAR